BEGIN:VCALENDAR
VERSION:2.0
PRODID:-//Hennesea - ECPv6.15.17.1//NONSGML v1.0//EN
CALSCALE:GREGORIAN
METHOD:PUBLISH
X-ORIGINAL-URL:https://www.hennesea.com
X-WR-CALDESC:Events for Hennesea
REFRESH-INTERVAL;VALUE=DURATION:PT1H
X-Robots-Tag:noindex
X-PUBLISHED-TTL:PT1H
BEGIN:VTIMEZONE
TZID:Europe/London
BEGIN:DAYLIGHT
TZOFFSETFROM:+0000
TZOFFSETTO:+0100
TZNAME:BST
DTSTART:20220327T010000
END:DAYLIGHT
BEGIN:STANDARD
TZOFFSETFROM:+0100
TZOFFSETTO:+0000
TZNAME:GMT
DTSTART:20221030T010000
END:STANDARD
BEGIN:DAYLIGHT
TZOFFSETFROM:+0000
TZOFFSETTO:+0100
TZNAME:BST
DTSTART:20230326T010000
END:DAYLIGHT
BEGIN:STANDARD
TZOFFSETFROM:+0100
TZOFFSETTO:+0000
TZNAME:GMT
DTSTART:20231029T010000
END:STANDARD
BEGIN:DAYLIGHT
TZOFFSETFROM:+0000
TZOFFSETTO:+0100
TZNAME:BST
DTSTART:20240331T010000
END:DAYLIGHT
BEGIN:STANDARD
TZOFFSETFROM:+0100
TZOFFSETTO:+0000
TZNAME:GMT
DTSTART:20241027T010000
END:STANDARD
END:VTIMEZONE
BEGIN:VTIMEZONE
TZID:UTC
BEGIN:STANDARD
TZOFFSETFROM:+0000
TZOFFSETTO:+0000
TZNAME:UTC
DTSTART:20220101T000000
END:STANDARD
END:VTIMEZONE
BEGIN:VEVENT
DTSTART;TZID=Europe/London:20230506T170000
DTEND;TZID=Europe/London:20230506T170000
DTSTAMP:20260423T233650
CREATED:20230503T103726Z
LAST-MODIFIED:20230503T113948Z
UID:984-1683392400-1683392400@www.hennesea.com
SUMMARY:Sea Monkeys
DESCRIPTION:It’s Coronation Day down at the Swan! \nAlso on the line-up today: \n2pm – Los Neighbourinos \n4pm – Terry Walls \n5pm – Sea Monkeys \n6:30pm Word of Mouth
URL:https://www.hennesea.com/event/sea-monkeys-3/
LOCATION:The Swan\, Worcester Road\, Newland\, Malvern\, Worcestershire\, WR13 5AY\, UK
ATTACH;FMTTYPE=image/jpeg:https://www.hennesea.com/wp-content/uploads/2023/05/Sea-Monkeys.jpg
END:VEVENT
BEGIN:VEVENT
DTSTART;TZID=UTC:20230506T200000
DTEND;TZID=UTC:20230506T200000
DTSTAMP:20260423T233650
CREATED:20230503T103725Z
LAST-MODIFIED:20230503T103725Z
UID:983-1683403200-1683403200@www.hennesea.com
SUMMARY:Sea Monkeys
DESCRIPTION:
URL:https://www.hennesea.com/event/sea-monkeys-2/
LOCATION:The Nag’s Head\, 2 Bank Street\, Malvern\, Worcestershire\, WR14 2JG\, UK
END:VEVENT
END:VCALENDAR