BEGIN:VCALENDAR
VERSION:2.0
PRODID:-//Hennesea - ECPv6.15.17.1//NONSGML v1.0//EN
CALSCALE:GREGORIAN
METHOD:PUBLISH
X-ORIGINAL-URL:https://www.hennesea.com
X-WR-CALDESC:Events for Hennesea
REFRESH-INTERVAL;VALUE=DURATION:PT1H
X-Robots-Tag:noindex
X-PUBLISHED-TTL:PT1H
BEGIN:VTIMEZONE
TZID:UTC
BEGIN:STANDARD
TZOFFSETFROM:+0000
TZOFFSETTO:+0000
TZNAME:UTC
DTSTART:20220101T000000
END:STANDARD
END:VTIMEZONE
BEGIN:VEVENT
DTSTART;TZID=UTC:20230602T200000
DTEND;TZID=UTC:20230602T200000
DTSTAMP:20260423T220710
CREATED:20230503T103724Z
LAST-MODIFIED:20230503T112740Z
UID:981-1685736000-1685736000@www.hennesea.com
SUMMARY:Hennesea
DESCRIPTION:
URL:https://www.hennesea.com/event/hennesea-3/
LOCATION:The Squirrel\, Foldgate Lane\, Ludlow\, Shropshire\, SY8 1LP\, UK
ATTACH;FMTTYPE=image/jpeg:https://www.hennesea.com/wp-content/uploads/2023/05/Hennesea-at-Red-Lion-Evesham.jpg
END:VEVENT
END:VCALENDAR