BEGIN:VCALENDAR
VERSION:2.0
PRODID:-//Hennesea - ECPv6.15.17.1//NONSGML v1.0//EN
CALSCALE:GREGORIAN
METHOD:PUBLISH
X-WR-CALNAME:Hennesea
X-ORIGINAL-URL:https://www.hennesea.com
X-WR-CALDESC:Events for Hennesea
REFRESH-INTERVAL;VALUE=DURATION:PT1H
X-Robots-Tag:noindex
X-PUBLISHED-TTL:PT1H
BEGIN:VTIMEZONE
TZID:UTC
BEGIN:STANDARD
TZOFFSETFROM:+0000
TZOFFSETTO:+0000
TZNAME:UTC
DTSTART:20220101T000000
END:STANDARD
END:VTIMEZONE
BEGIN:VEVENT
DTSTART;TZID=UTC:20230917T160000
DTEND;TZID=UTC:20230917T180000
DTSTAMP:20260423T161550
CREATED:20230904T091119Z
LAST-MODIFIED:20230904T091119Z
UID:1066-1694966400-1694973600@www.hennesea.com
SUMMARY:Hennesea
DESCRIPTION:Hennesea play at the Red Lion in Cradley for an afternoon of autumnal music!
URL:https://www.hennesea.com/event/hennesea-29/
LOCATION:Red Lion\, Stifford’s Bridge\, Stifford's Bridge\, Malvern\, Malvern\, Worcestershire\, WR13 5NN\, United Kingdom
ATTACH;FMTTYPE=image/jpeg:https://www.hennesea.com/wp-content/uploads/2021/09/Hennesea-at-Mappfest-202111.jpg
END:VEVENT
END:VCALENDAR