BEGIN:VCALENDAR
VERSION:2.0
PRODID:-//Hennesea - ECPv6.15.17.1//NONSGML v1.0//EN
CALSCALE:GREGORIAN
METHOD:PUBLISH
X-WR-CALNAME:Hennesea
X-ORIGINAL-URL:https://www.hennesea.com
X-WR-CALDESC:Events for Hennesea
REFRESH-INTERVAL;VALUE=DURATION:PT1H
X-Robots-Tag:noindex
X-PUBLISHED-TTL:PT1H
BEGIN:VTIMEZONE
TZID:UTC
BEGIN:STANDARD
TZOFFSETFROM:+0000
TZOFFSETTO:+0000
TZNAME:UTC
DTSTART:20220101T000000
END:STANDARD
END:VTIMEZONE
BEGIN:VEVENT
DTSTART;TZID=UTC:20231125T193000
DTEND;TZID=UTC:20231125T230000
DTSTAMP:20260423T122636
CREATED:20230928T100703Z
LAST-MODIFIED:20230928T100703Z
UID:1081-1700940600-1700953200@www.hennesea.com
SUMMARY:Hennesea in Hartlebury
DESCRIPTION:
URL:https://www.hennesea.com/event/hennesea-in-hartlebury/
LOCATION:Hartlebury Parish Hall\, Waresley Court Road\, Hartlebury\, Worcestershire\, DY11 7TQ\, United Kingdom
ATTACH;FMTTYPE=image/png:https://www.hennesea.com/wp-content/uploads/2023/09/Hennesea-Squirrel.png
END:VEVENT
END:VCALENDAR