BEGIN:VCALENDAR
VERSION:2.0
PRODID:-//Hennesea - ECPv6.15.17.1//NONSGML v1.0//EN
CALSCALE:GREGORIAN
METHOD:PUBLISH
X-ORIGINAL-URL:https://www.hennesea.com
X-WR-CALDESC:Events for Hennesea
REFRESH-INTERVAL;VALUE=DURATION:PT1H
X-Robots-Tag:noindex
X-PUBLISHED-TTL:PT1H
BEGIN:VTIMEZONE
TZID:UTC
BEGIN:STANDARD
TZOFFSETFROM:+0000
TZOFFSETTO:+0000
TZNAME:UTC
DTSTART:20220101T000000
END:STANDARD
END:VTIMEZONE
BEGIN:VEVENT
DTSTART;TZID=UTC:20231202T140000
DTEND;TZID=UTC:20231202T170000
DTSTAMP:20260423T110209
CREATED:20231115T135402Z
LAST-MODIFIED:20231115T135402Z
UID:1095-1701525600-1701536400@www.hennesea.com
SUMMARY:Victorian Christmas Fayre
DESCRIPTION:Hennesea play on the Cardinal’s Hat stage from 2pm. \nThere’s a raft of exciting and uplifting entertainment on offer at Worcester’s traditional Victorian Christmas Fayre this year. \nOur costumed characters will journey with you as you experience the sights\, smells and sounds of a Victorian Christmas\, accompanied by street magicians\, stilt walkers and brilliant musicians on every street corner. A festive treat for all the family! \nStreet Entertainment \n \n  \n 
URL:https://www.hennesea.com/event/victorian-christmas-fayre/
LOCATION:The Cardinal’s Hat\, 31 Friar Street\, Worcester\, WR1 2NA\, UK
ATTACH;FMTTYPE=image/png:https://www.hennesea.com/wp-content/uploads/2023/09/Hennesea-FitM.png
END:VEVENT
END:VCALENDAR