BEGIN:VCALENDAR
VERSION:2.0
PRODID:-//Hennesea - ECPv6.15.17.1//NONSGML v1.0//EN
CALSCALE:GREGORIAN
METHOD:PUBLISH
X-ORIGINAL-URL:https://www.hennesea.com
X-WR-CALDESC:Events for Hennesea
REFRESH-INTERVAL;VALUE=DURATION:PT1H
X-Robots-Tag:noindex
X-PUBLISHED-TTL:PT1H
BEGIN:VTIMEZONE
TZID:UTC
BEGIN:STANDARD
TZOFFSETFROM:+0000
TZOFFSETTO:+0000
TZNAME:UTC
DTSTART:20230101T000000
END:STANDARD
END:VTIMEZONE
BEGIN:VEVENT
DTSTART;TZID=UTC:20240428T190000
DTEND;TZID=UTC:20240428T230000
DTSTAMP:20260423T031711
CREATED:20240208T184716Z
LAST-MODIFIED:20240208T184716Z
UID:1246-1714330800-1714345200@www.hennesea.com
SUMMARY:The Chestnut
DESCRIPTION:Back at Mad Pierre’s!
URL:https://www.hennesea.com/event/the-chestnut/
LOCATION:The Chestnut\, 17 Lansdowne Road\, Worcester\, WR1 1SS\, UK
ATTACH;FMTTYPE=image/jpeg:https://www.hennesea.com/wp-content/uploads/2022/08/Hennesea-Chestnuts.jpeg
END:VEVENT
END:VCALENDAR