BEGIN:VCALENDAR
VERSION:2.0
PRODID:-//Hennesea - ECPv6.15.17.1//NONSGML v1.0//EN
CALSCALE:GREGORIAN
METHOD:PUBLISH
X-ORIGINAL-URL:https://www.hennesea.com
X-WR-CALDESC:Events for Hennesea
REFRESH-INTERVAL;VALUE=DURATION:PT1H
X-Robots-Tag:noindex
X-PUBLISHED-TTL:PT1H
BEGIN:VTIMEZONE
TZID:UTC
BEGIN:STANDARD
TZOFFSETFROM:+0000
TZOFFSETTO:+0000
TZNAME:UTC
DTSTART:20240101T000000
END:STANDARD
END:VTIMEZONE
BEGIN:VEVENT
DTSTART;TZID=UTC:20250418T200000
DTEND;TZID=UTC:20250418T210000
DTSTAMP:20260422T081110
CREATED:20250327T192231Z
LAST-MODIFIED:20250327T192231Z
UID:1343-1745006400-1745010000@www.hennesea.com
SUMMARY:Malvern Rocks Easter Surprise
DESCRIPTION:
URL:https://www.hennesea.com/event/malvern-rocks-easter-surprise/
LOCATION:Red Lion\, Stifford’s Bridge\, Stifford's Bridge\, Malvern\, Malvern\, Worcestershire\, WR13 5NN\, United Kingdom
ATTACH;FMTTYPE=image/png:https://www.hennesea.com/wp-content/uploads/2023/09/Hennesea-Squirrel.png
END:VEVENT
END:VCALENDAR