BEGIN:VCALENDAR
VERSION:2.0
PRODID:-//Hennesea - ECPv6.15.17.1//NONSGML v1.0//EN
CALSCALE:GREGORIAN
METHOD:PUBLISH
X-WR-CALNAME:Hennesea
X-ORIGINAL-URL:https://www.hennesea.com
X-WR-CALDESC:Events for Hennesea
REFRESH-INTERVAL;VALUE=DURATION:PT1H
X-Robots-Tag:noindex
X-PUBLISHED-TTL:PT1H
BEGIN:VTIMEZONE
TZID:UTC
BEGIN:STANDARD
TZOFFSETFROM:+0000
TZOFFSETTO:+0000
TZNAME:UTC
DTSTART:20240101T000000
END:STANDARD
END:VTIMEZONE
BEGIN:VEVENT
DTSTART;TZID=UTC:20250629T160000
DTEND;TZID=UTC:20250629T170000
DTSTAMP:20260422T044441
CREATED:20250327T192553Z
LAST-MODIFIED:20250327T192553Z
UID:1345-1751212800-1751216400@www.hennesea.com
SUMMARY:Naked Hennesea
DESCRIPTION:Well. . .  maybe not. 😎
URL:https://www.hennesea.com/event/naked-hennesea/
LOCATION:Worcestershire o
ATTACH;FMTTYPE=image/jpeg:https://www.hennesea.com/wp-content/uploads/2024/04/Creature-04-jpeg.webp
END:VEVENT
END:VCALENDAR