BEGIN:VCALENDAR
VERSION:2.0
PRODID:-//Hennesea - ECPv6.15.17.1//NONSGML v1.0//EN
CALSCALE:GREGORIAN
METHOD:PUBLISH
X-WR-CALNAME:Hennesea
X-ORIGINAL-URL:https://www.hennesea.com
X-WR-CALDESC:Events for Hennesea
REFRESH-INTERVAL;VALUE=DURATION:PT1H
X-Robots-Tag:noindex
X-PUBLISHED-TTL:PT1H
BEGIN:VTIMEZONE
TZID:UTC
BEGIN:STANDARD
TZOFFSETFROM:+0000
TZOFFSETTO:+0000
TZNAME:UTC
DTSTART:20240101T000000
END:STANDARD
END:VTIMEZONE
BEGIN:VEVENT
DTSTART;TZID=UTC:20251220T200000
DTEND;TZID=UTC:20251220T223000
DTSTAMP:20260421T182847
CREATED:20251210T173846Z
LAST-MODIFIED:20251210T173846Z
UID:2528-1766260800-1766269800@www.hennesea.com
SUMMARY:A Very Hennesea Christmas
DESCRIPTION:Joins us for some festive cheer and a few mince pies at the fabulous Barn in Ledbury. \nHennesea is a five-piece indie-folk band from Malvern who blend original compositions with one or two timeless covers. \nFronted by Anna Watts on vocals\, guitar\, and harmonica\, they’re joined by Garry Low (drums/percussion)\, Mark Keene (guitar/mandolin/vocals)\, Ralph Tittley (bass/vocals)\, and Rob Murray Mason (vocals/percussion). \nTheir Christmassy gig at The Barn—an intimate\, historic arts and music venue in Ledbury’s town centre—promises a festive twist on their signature sound amid the venue’s cozy acoustics and relaxed vibe.
URL:https://www.hennesea.com/event/a-very-hennesea-christmas/
LOCATION:The Barn\, St Katherine’s\, High Street\, Ledbury\, Herefordshire\,\, HR8 1EA\, United Kingdom
ATTACH;FMTTYPE=image/png:https://www.hennesea.com/wp-content/uploads/2023/09/Hennesea-FitM.png
END:VEVENT
END:VCALENDAR