BEGIN:VCALENDAR
VERSION:2.0
PRODID:-//Hennesea - ECPv6.15.17.1//NONSGML v1.0//EN
CALSCALE:GREGORIAN
METHOD:PUBLISH
X-ORIGINAL-URL:https://www.hennesea.com
X-WR-CALDESC:Events for Hennesea
REFRESH-INTERVAL;VALUE=DURATION:PT1H
X-Robots-Tag:noindex
X-PUBLISHED-TTL:PT1H
BEGIN:VTIMEZONE
TZID:UTC
BEGIN:STANDARD
TZOFFSETFROM:+0000
TZOFFSETTO:+0000
TZNAME:UTC
DTSTART:20250101T000000
END:STANDARD
END:VTIMEZONE
BEGIN:VEVENT
DTSTART;TZID=UTC:20260301T140000
DTEND;TZID=UTC:20260301T230000
DTSTAMP:20260421T132309
CREATED:20260222T095405Z
LAST-MODIFIED:20260222T095405Z
UID:2537-1772373600-1772406000@www.hennesea.com
SUMMARY:Nelly Fest
DESCRIPTION:Celebrating Neil’s birthday while supporting some worthwhile charities!
URL:https://www.hennesea.com/event/nelly-fest/
LOCATION:The Morgan\, 52 Clarence Road\, Malvern\, Worcestershire\, WR14 3EQ\, UK
ATTACH;FMTTYPE=image/jpeg:https://www.hennesea.com/wp-content/uploads/2026/02/IMG_7594.jpeg
END:VEVENT
END:VCALENDAR