BEGIN:VCALENDAR
VERSION:2.0
PRODID:-//Hennesea - ECPv6.15.17.1//NONSGML v1.0//EN
CALSCALE:GREGORIAN
METHOD:PUBLISH
X-ORIGINAL-URL:https://www.hennesea.com
X-WR-CALDESC:Events for Hennesea
REFRESH-INTERVAL;VALUE=DURATION:PT1H
X-Robots-Tag:noindex
X-PUBLISHED-TTL:PT1H
BEGIN:VTIMEZONE
TZID:UTC
BEGIN:STANDARD
TZOFFSETFROM:+0000
TZOFFSETTO:+0000
TZNAME:UTC
DTSTART:20250101T000000
END:STANDARD
END:VTIMEZONE
BEGIN:VEVENT
DTSTART;TZID=UTC:20260314T200000
DTEND;TZID=UTC:20260314T230000
DTSTAMP:20260421T132315
CREATED:20260222T133757Z
LAST-MODIFIED:20260222T133950Z
UID:2546-1773518400-1773529200@www.hennesea.com
SUMMARY:Fran & Mac’s Anniversary Party
DESCRIPTION:A private party for Fran and Mac Victory. Celebrating 50 years of marriage! \nInvite only.
URL:https://www.hennesea.com/event/fran-macs-anniversary-party/
LOCATION:Colwall Park Hotel
ATTACH;FMTTYPE=image/jpeg:https://www.hennesea.com/wp-content/uploads/2023/05/Hennesea-at-Red-Lion-Evesham.jpg
END:VEVENT
END:VCALENDAR