BEGIN:VCALENDAR
VERSION:2.0
PRODID:-//Hennesea - ECPv6.15.17.1//NONSGML v1.0//EN
CALSCALE:GREGORIAN
METHOD:PUBLISH
X-WR-CALNAME:Hennesea
X-ORIGINAL-URL:https://www.hennesea.com
X-WR-CALDESC:Events for Hennesea
REFRESH-INTERVAL;VALUE=DURATION:PT1H
X-Robots-Tag:noindex
X-PUBLISHED-TTL:PT1H
BEGIN:VTIMEZONE
TZID:UTC
BEGIN:STANDARD
TZOFFSETFROM:+0000
TZOFFSETTO:+0000
TZNAME:UTC
DTSTART:20210101T000000
END:STANDARD
END:VTIMEZONE
BEGIN:VEVENT
DTSTART;TZID=UTC:20220731T170000
DTEND;TZID=UTC:20220731T170000
DTSTAMP:20260423T101058
CREATED:20230503T103827Z
LAST-MODIFIED:20230503T103827Z
UID:1006-1659286800-1659286800@www.hennesea.com
SUMMARY:Hennesea
DESCRIPTION:
URL:https://www.hennesea.com/event/hennesea-24/
LOCATION:The Nag’s Head\, 2 Bank Street\, Malvern\, Worcestershire\, WR14 2JG\, UK
END:VEVENT
BEGIN:VEVENT
DTSTART;TZID=UTC:20220730T210000
DTEND;TZID=UTC:20220730T210000
DTSTAMP:20260423T101058
CREATED:20230503T103827Z
LAST-MODIFIED:20230503T103827Z
UID:1007-1659214800-1659214800@www.hennesea.com
SUMMARY:Hennesea
DESCRIPTION:
URL:https://www.hennesea.com/event/hennesea-25/
LOCATION:The Chestnut\, 17 Lansdowne Road\, Worcester\, WR1 1SS\, UK
END:VEVENT
END:VCALENDAR