BEGIN:VCALENDAR
VERSION:2.0
PRODID:-//Hennesea - ECPv6.15.17.1//NONSGML v1.0//EN
CALSCALE:GREGORIAN
METHOD:PUBLISH
X-WR-CALNAME:Hennesea
X-ORIGINAL-URL:https://www.hennesea.com
X-WR-CALDESC:Events for Hennesea
REFRESH-INTERVAL;VALUE=DURATION:PT1H
X-Robots-Tag:noindex
X-PUBLISHED-TTL:PT1H
BEGIN:VTIMEZONE
TZID:UTC
BEGIN:STANDARD
TZOFFSETFROM:+0000
TZOFFSETTO:+0000
TZNAME:UTC
DTSTART:20210101T000000
END:STANDARD
END:VTIMEZONE
BEGIN:VEVENT
DTSTART;TZID=UTC:20230430T150000
DTEND;TZID=UTC:20230430T150000
DTSTAMP:20260422T024535
CREATED:20230503T103726Z
LAST-MODIFIED:20230503T103726Z
UID:985-1682866800-1682866800@www.hennesea.com
SUMMARY:Sea Monkeys
DESCRIPTION:
URL:https://www.hennesea.com/event/sea-monkeys-4/
LOCATION:The Morgan\, 52 Clarence Road\, Malvern\, Worcestershire\, WR14 3EQ\, UK
END:VEVENT
BEGIN:VEVENT
DTSTART;TZID=UTC:20230423T150000
DTEND;TZID=UTC:20230423T150000
DTSTAMP:20260422T024535
CREATED:20230503T103726Z
LAST-MODIFIED:20230503T103726Z
UID:986-1682262000-1682262000@www.hennesea.com
SUMMARY:Hennesea
DESCRIPTION:
URL:https://www.hennesea.com/event/hennesea-4/
LOCATION:The Morgan\, 52 Clarence Road\, Malvern\, Worcestershire\, WR14 3EQ\, UK
END:VEVENT
BEGIN:VEVENT
DTSTART;TZID=UTC:20230422T210000
DTEND;TZID=UTC:20230422T210000
DTSTAMP:20260422T024535
CREATED:20230503T103726Z
LAST-MODIFIED:20230503T103726Z
UID:987-1682197200-1682197200@www.hennesea.com
SUMMARY:Hennesea
DESCRIPTION:
URL:https://www.hennesea.com/event/hennesea-5/
LOCATION:The Green Dragon\, 126 Guarlford Road\, Malvern\, Worcestershire\, WR14 3QT\, UK
END:VEVENT
BEGIN:VEVENT
DTSTART;TZID=UTC:20230421T210000
DTEND;TZID=UTC:20230421T210000
DTSTAMP:20260422T024535
CREATED:20230503T103726Z
LAST-MODIFIED:20230503T112553Z
UID:988-1682110800-1682110800@www.hennesea.com
SUMMARY:Sea Monkeys
DESCRIPTION:
URL:https://www.hennesea.com/event/hennesea-6/
LOCATION:Red Lion\, Evesham\, 6 Market Square\, Evesham\, Worcestershire\, WR11 4RW
END:VEVENT
BEGIN:VEVENT
DTSTART;TZID=UTC:20230408T200000
DTEND;TZID=UTC:20230408T200000
DTSTAMP:20260422T024535
CREATED:20230503T103741Z
LAST-MODIFIED:20230503T103741Z
UID:989-1680984000-1680984000@www.hennesea.com
SUMMARY:Hennesea
DESCRIPTION:
URL:https://www.hennesea.com/event/hennesea-7/
LOCATION:The Chestnut\, 17 Lansdowne Road\, Worcester\, WR1 1SS\, UK
END:VEVENT
BEGIN:VEVENT
DTSTART;TZID=UTC:20230331T200000
DTEND;TZID=UTC:20230331T200000
DTSTAMP:20260422T024535
CREATED:20230503T103741Z
LAST-MODIFIED:20230503T103741Z
UID:990-1680292800-1680292800@www.hennesea.com
SUMMARY:Hennesea
DESCRIPTION:
URL:https://www.hennesea.com/event/hennesea-8/
LOCATION:The Bluebell\, Barnards Green\, Malvern\, Worcestershire\, WR14 3QP\, UK
END:VEVENT
BEGIN:VEVENT
DTSTART;TZID=UTC:20230226T160000
DTEND;TZID=UTC:20230226T160000
DTSTAMP:20260422T024535
CREATED:20230503T103741Z
LAST-MODIFIED:20230503T103741Z
UID:991-1677427200-1677427200@www.hennesea.com
SUMMARY:Hennesea
DESCRIPTION:
URL:https://www.hennesea.com/event/hennesea-9/
LOCATION:Red Lion\, Evesham\, 6 Market Square\, Evesham\, Worcestershire\, WR11 4RW
END:VEVENT
BEGIN:VEVENT
DTSTART;TZID=UTC:20230128T200000
DTEND;TZID=UTC:20230128T200000
DTSTAMP:20260422T024535
CREATED:20230503T103741Z
LAST-MODIFIED:20230503T103741Z
UID:992-1674936000-1674936000@www.hennesea.com
SUMMARY:Hennesea
DESCRIPTION:
URL:https://www.hennesea.com/event/hennesea-10/
LOCATION:The Chestnut\, 17 Lansdowne Road\, Worcester\, WR1 1SS\, UK
END:VEVENT
BEGIN:VEVENT
DTSTART;TZID=UTC:20221226T200000
DTEND;TZID=UTC:20221226T200000
DTSTAMP:20260422T024535
CREATED:20230503T103741Z
LAST-MODIFIED:20230503T103741Z
UID:993-1672084800-1672084800@www.hennesea.com
SUMMARY:Hennesea
DESCRIPTION:
URL:https://www.hennesea.com/event/hennesea-11/
LOCATION:The Old Con Club\, 4 Church Street\, Malvern\, Worcestershire\, WR14 2AY\, UK
END:VEVENT
BEGIN:VEVENT
DTSTART;TZID=UTC:20221210T210000
DTEND;TZID=UTC:20221210T210000
DTSTAMP:20260422T024535
CREATED:20230503T103756Z
LAST-MODIFIED:20230503T103756Z
UID:994-1670706000-1670706000@www.hennesea.com
SUMMARY:Hennesea
DESCRIPTION:
URL:https://www.hennesea.com/event/hennesea-12/
LOCATION:Archway 49\, Cherry Tree Walk\, Worcester\, Worcestershire\, WR1 3BH\, UK
END:VEVENT
BEGIN:VEVENT
DTSTART;TZID=UTC:20221203T130000
DTEND;TZID=UTC:20221203T130000
DTSTAMP:20260422T024535
CREATED:20230503T103757Z
LAST-MODIFIED:20230503T103757Z
UID:995-1670072400-1670072400@www.hennesea.com
SUMMARY:Hennesea
DESCRIPTION:
URL:https://www.hennesea.com/event/hennesea-13/
LOCATION:The Cardinal’s Hat\, 31 Friar Street\, Worcester\, WR1 2NA\, UK
END:VEVENT
BEGIN:VEVENT
DTSTART;TZID=UTC:20221126T210000
DTEND;TZID=UTC:20221126T210000
DTSTAMP:20260422T024535
CREATED:20230503T103757Z
LAST-MODIFIED:20230503T103757Z
UID:996-1669496400-1669496400@www.hennesea.com
SUMMARY:Hennesea
DESCRIPTION:
URL:https://www.hennesea.com/event/hennesea-14/
LOCATION:The Green Dragon\, 126 Guarlford Road\, Malvern\, Worcestershire\, WR14 3QT\, UK
END:VEVENT
BEGIN:VEVENT
DTSTART;TZID=UTC:20221105T210000
DTEND;TZID=UTC:20221105T210000
DTSTAMP:20260422T024535
CREATED:20230503T103757Z
LAST-MODIFIED:20230503T103757Z
UID:997-1667682000-1667682000@www.hennesea.com
SUMMARY:Hennesea
DESCRIPTION:
URL:https://www.hennesea.com/event/hennesea-15/
LOCATION:Red Lion\, 4 St Anne's Road\, Malvern\, Worcestershire\, WR14 4RG\, UK
END:VEVENT
BEGIN:VEVENT
DTSTART;TZID=UTC:20221021T210000
DTEND;TZID=UTC:20221021T210000
DTSTAMP:20260422T024535
CREATED:20230503T103757Z
LAST-MODIFIED:20230503T103757Z
UID:998-1666386000-1666386000@www.hennesea.com
SUMMARY:Hennesea
DESCRIPTION:
URL:https://www.hennesea.com/event/hennesea-16/
LOCATION:Red Lion\, Evesham\, 6 Market Square\, Evesham\, Worcestershire\, WR11 4RW
END:VEVENT
BEGIN:VEVENT
DTSTART;TZID=UTC:20221014T083000
DTEND;TZID=UTC:20221014T083000
DTSTAMP:20260422T024535
CREATED:20230503T103811Z
LAST-MODIFIED:20230503T103811Z
UID:999-1665736200-1665736200@www.hennesea.com
SUMMARY:Hennesea
DESCRIPTION:
URL:https://www.hennesea.com/event/hennesea-17/
LOCATION:The Bluebell\, Barnards Green\, Malvern\, Worcestershire\, WR14 3QP\, UK
END:VEVENT
BEGIN:VEVENT
DTSTART;TZID=UTC:20220903T210000
DTEND;TZID=UTC:20220903T210000
DTSTAMP:20260422T024535
CREATED:20230503T103812Z
LAST-MODIFIED:20230503T103812Z
UID:1000-1662238800-1662238800@www.hennesea.com
SUMMARY:Hennesea
DESCRIPTION:
URL:https://www.hennesea.com/event/hennesea-18/
LOCATION:The Cheese Rollers\, Shurdington Road\, Shurdington\, Cheltenham\, GL51 4XJ\, UK
END:VEVENT
BEGIN:VEVENT
DTSTART;TZID=UTC:20220828T170000
DTEND;TZID=UTC:20220828T170000
DTSTAMP:20260422T024535
CREATED:20230503T103812Z
LAST-MODIFIED:20230503T103812Z
UID:1001-1661706000-1661706000@www.hennesea.com
SUMMARY:Hennesea
DESCRIPTION:
URL:https://www.hennesea.com/event/hennesea-19/
LOCATION:Red Lion\, 4 St Anne's Road\, Malvern\, Worcestershire\, WR14 4RG\, UK
END:VEVENT
BEGIN:VEVENT
DTSTART;TZID=UTC:20220826T210000
DTEND;TZID=UTC:20220826T210000
DTSTAMP:20260422T024535
CREATED:20230503T103812Z
LAST-MODIFIED:20230503T103812Z
UID:1002-1661547600-1661547600@www.hennesea.com
SUMMARY:Hennesea
DESCRIPTION:
URL:https://www.hennesea.com/event/hennesea-20/
LOCATION:The Water Cure\, 30 Church Street\, Malvern\, Worcestershire\, WR14 2AZ\, UK
END:VEVENT
BEGIN:VEVENT
DTSTART;TZID=UTC:20220821T153000
DTEND;TZID=UTC:20220821T153000
DTSTAMP:20260422T024535
CREATED:20230503T103812Z
LAST-MODIFIED:20230503T103812Z
UID:1003-1661095800-1661095800@www.hennesea.com
SUMMARY:Hennesea
DESCRIPTION:
URL:https://www.hennesea.com/event/hennesea-21/
LOCATION:The Nag’s Head\, 2 Bank Street\, Malvern\, Worcestershire\, WR14 2JG\, UK
END:VEVENT
BEGIN:VEVENT
DTSTART;TZID=UTC:20220807T170000
DTEND;TZID=UTC:20220807T170000
DTSTAMP:20260422T024535
CREATED:20230503T103827Z
LAST-MODIFIED:20230503T103827Z
UID:1004-1659891600-1659891600@www.hennesea.com
SUMMARY:Hennesea
DESCRIPTION:
URL:https://www.hennesea.com/event/hennesea-22/
LOCATION:The Chase Inn\, Chase Road\, Upper Colwall\, Worcestershire\, WR13 6DJ\, UK
END:VEVENT
BEGIN:VEVENT
DTSTART;TZID=UTC:20220806T223000
DTEND;TZID=UTC:20220806T223000
DTSTAMP:20260422T024535
CREATED:20230503T103827Z
LAST-MODIFIED:20230503T103827Z
UID:1005-1659825000-1659825000@www.hennesea.com
SUMMARY:Hennesea
DESCRIPTION:
URL:https://www.hennesea.com/event/hennesea-23/
LOCATION:Worcestershire
END:VEVENT
BEGIN:VEVENT
DTSTART;TZID=UTC:20220731T170000
DTEND;TZID=UTC:20220731T170000
DTSTAMP:20260422T024535
CREATED:20230503T103827Z
LAST-MODIFIED:20230503T103827Z
UID:1006-1659286800-1659286800@www.hennesea.com
SUMMARY:Hennesea
DESCRIPTION:
URL:https://www.hennesea.com/event/hennesea-24/
LOCATION:The Nag’s Head\, 2 Bank Street\, Malvern\, Worcestershire\, WR14 2JG\, UK
END:VEVENT
BEGIN:VEVENT
DTSTART;TZID=UTC:20220730T210000
DTEND;TZID=UTC:20220730T210000
DTSTAMP:20260422T024535
CREATED:20230503T103827Z
LAST-MODIFIED:20230503T103827Z
UID:1007-1659214800-1659214800@www.hennesea.com
SUMMARY:Hennesea
DESCRIPTION:
URL:https://www.hennesea.com/event/hennesea-25/
LOCATION:The Chestnut\, 17 Lansdowne Road\, Worcester\, WR1 1SS\, UK
END:VEVENT
END:VCALENDAR