BEGIN:VCALENDAR
VERSION:2.0
PRODID:-//Hennesea - ECPv6.15.17.1//NONSGML v1.0//EN
CALSCALE:GREGORIAN
METHOD:PUBLISH
X-WR-CALNAME:Hennesea
X-ORIGINAL-URL:https://www.hennesea.com
X-WR-CALDESC:Events for Hennesea
REFRESH-INTERVAL;VALUE=DURATION:PT1H
X-Robots-Tag:noindex
X-PUBLISHED-TTL:PT1H
BEGIN:VTIMEZONE
TZID:UTC
BEGIN:STANDARD
TZOFFSETFROM:+0000
TZOFFSETTO:+0000
TZNAME:UTC
DTSTART:20220101T000000
END:STANDARD
END:VTIMEZONE
BEGIN:VEVENT
DTSTART;TZID=UTC:20230702T160000
DTEND;TZID=UTC:20230702T180000
DTSTAMP:20260423T173321
CREATED:20230620T172429Z
LAST-MODIFIED:20230620T172429Z
UID:1050-1688313600-1688320800@www.hennesea.com
SUMMARY:Sea Monkeys
DESCRIPTION:Anna\, Rob and Ralph performing as the Sea Monkeys.
URL:https://www.hennesea.com/event/sea-monkeys-5/
LOCATION:Plume of Feathers\, Gloucester Road\, Castlemorton\, Worcestershire\, WR13 6JB\, United Kingdom
ATTACH;FMTTYPE=image/jpeg:https://www.hennesea.com/wp-content/uploads/2023/05/Sea-Monkeys.jpg
END:VEVENT
END:VCALENDAR