BEGIN:VCALENDAR
VERSION:2.0
PRODID:-//Hennesea - ECPv6.15.17.1//NONSGML v1.0//EN
CALSCALE:GREGORIAN
METHOD:PUBLISH
X-WR-CALNAME:Hennesea
X-ORIGINAL-URL:https://www.hennesea.com
X-WR-CALDESC:Events for Hennesea
REFRESH-INTERVAL;VALUE=DURATION:PT1H
X-Robots-Tag:noindex
X-PUBLISHED-TTL:PT1H
BEGIN:VTIMEZONE
TZID:Europe/London
BEGIN:DAYLIGHT
TZOFFSETFROM:+0000
TZOFFSETTO:+0100
TZNAME:BST
DTSTART:20220327T010000
END:DAYLIGHT
BEGIN:STANDARD
TZOFFSETFROM:+0100
TZOFFSETTO:+0000
TZNAME:GMT
DTSTART:20221030T010000
END:STANDARD
BEGIN:DAYLIGHT
TZOFFSETFROM:+0000
TZOFFSETTO:+0100
TZNAME:BST
DTSTART:20230326T010000
END:DAYLIGHT
BEGIN:STANDARD
TZOFFSETFROM:+0100
TZOFFSETTO:+0000
TZNAME:GMT
DTSTART:20231029T010000
END:STANDARD
BEGIN:DAYLIGHT
TZOFFSETFROM:+0000
TZOFFSETTO:+0100
TZNAME:BST
DTSTART:20240331T010000
END:DAYLIGHT
BEGIN:STANDARD
TZOFFSETFROM:+0100
TZOFFSETTO:+0000
TZNAME:GMT
DTSTART:20241027T010000
END:STANDARD
END:VTIMEZONE
BEGIN:VTIMEZONE
TZID:UTC
BEGIN:STANDARD
TZOFFSETFROM:+0000
TZOFFSETTO:+0000
TZNAME:UTC
DTSTART:20220101T000000
END:STANDARD
END:VTIMEZONE
BEGIN:VEVENT
DTSTART;TZID=Europe/London:20230909T210000
DTEND;TZID=Europe/London:20230909T210000
DTSTAMP:20260423T143247
CREATED:20230517T080923Z
LAST-MODIFIED:20230517T082019Z
UID:1036-1694293200-1694293200@www.hennesea.com
SUMMARY:Hennesea
DESCRIPTION:
URL:https://www.hennesea.com/event/hennesea-26/
LOCATION:Sociable Beer Company\, 6 Britannia Rd\, Worcester\, Worcestershire\, WR1 3BQ
ATTACH;FMTTYPE=image/jpeg:https://www.hennesea.com/wp-content/uploads/2020/06/Anna.jpg
END:VEVENT
BEGIN:VEVENT
DTSTART;TZID=UTC:20230915T210000
DTEND;TZID=UTC:20230915T210000
DTSTAMP:20260423T143247
CREATED:20230503T103724Z
LAST-MODIFIED:20230517T082059Z
UID:980-1694811600-1694811600@www.hennesea.com
SUMMARY:Hennesea
DESCRIPTION:
URL:https://www.hennesea.com/event/hennesea-2/
LOCATION:The Bluebell\, Barnards Green\, Malvern\, Worcestershire\, WR14 3QP\, UK
ATTACH;FMTTYPE=image/jpeg:https://www.hennesea.com/wp-content/uploads/2023/05/Anna-at-Red-Lion-Evesham.jpeg
END:VEVENT
BEGIN:VEVENT
DTSTART;TZID=UTC:20230916T200000
DTEND;TZID=UTC:20230916T210000
DTSTAMP:20260423T143247
CREATED:20230817T142618Z
LAST-MODIFIED:20230817T142618Z
UID:1060-1694894400-1694898000@www.hennesea.com
SUMMARY:Hennesea at WMF
DESCRIPTION:
URL:https://www.hennesea.com/event/hennesea-at-wmf/
LOCATION:Archway 49\, Cherry Tree Walk\, Worcester\, Worcestershire\, WR1 3BH\, UK
ATTACH;FMTTYPE=image/jpeg:https://www.hennesea.com/wp-content/uploads/2022/08/Hennesea-Chestnuts.jpeg
END:VEVENT
BEGIN:VEVENT
DTSTART;TZID=UTC:20230917T160000
DTEND;TZID=UTC:20230917T180000
DTSTAMP:20260423T143247
CREATED:20230904T091119Z
LAST-MODIFIED:20230904T091119Z
UID:1066-1694966400-1694973600@www.hennesea.com
SUMMARY:Hennesea
DESCRIPTION:Hennesea play at the Red Lion in Cradley for an afternoon of autumnal music!
URL:https://www.hennesea.com/event/hennesea-29/
LOCATION:Red Lion\, Stifford’s Bridge\, Stifford's Bridge\, Malvern\, Malvern\, Worcestershire\, WR13 5NN\, United Kingdom
ATTACH;FMTTYPE=image/jpeg:https://www.hennesea.com/wp-content/uploads/2021/09/Hennesea-at-Mappfest-202111.jpg
END:VEVENT
BEGIN:VEVENT
DTSTART;TZID=UTC:20230923T210000
DTEND;TZID=UTC:20230923T210000
DTSTAMP:20260423T143247
CREATED:20230503T103724Z
LAST-MODIFIED:20230517T081419Z
UID:979-1695502800-1695502800@www.hennesea.com
SUMMARY:Hennesea
DESCRIPTION:
URL:https://www.hennesea.com/event/hennesea/
LOCATION:The Green Dragon\, 126 Guarlford Road\, Malvern\, Worcestershire\, WR14 3QT\, UK
ATTACH;FMTTYPE=image/jpeg:https://www.hennesea.com/wp-content/uploads/2022/08/Hennesea-Chestnuts.jpeg
END:VEVENT
END:VCALENDAR