BEGIN:VCALENDAR
VERSION:2.0
PRODID:-//Hennesea - ECPv6.15.17.1//NONSGML v1.0//EN
CALSCALE:GREGORIAN
METHOD:PUBLISH
X-WR-CALNAME:Hennesea
X-ORIGINAL-URL:https://www.hennesea.com
X-WR-CALDESC:Events for Hennesea
REFRESH-INTERVAL;VALUE=DURATION:PT1H
X-Robots-Tag:noindex
X-PUBLISHED-TTL:PT1H
BEGIN:VTIMEZONE
TZID:UTC
BEGIN:STANDARD
TZOFFSETFROM:+0000
TZOFFSETTO:+0000
TZNAME:UTC
DTSTART:20230101T000000
END:STANDARD
END:VTIMEZONE
BEGIN:VEVENT
DTSTART;TZID=UTC:20240106T200000
DTEND;TZID=UTC:20240106T230000
DTSTAMP:20260423T075625
CREATED:20240103T193518Z
LAST-MODIFIED:20240103T193640Z
UID:1171-1704571200-1704582000@www.hennesea.com
SUMMARY:The Chestnut
DESCRIPTION:
URL:https://www.hennesea.com/event/hennesea-31/
LOCATION:The Chestnut\, 17 Lansdowne Road\, Worcester\, WR1 1SS\, UK
ATTACH;FMTTYPE=image/jpeg:https://www.hennesea.com/wp-content/uploads/2024/01/IMG_3630-jpeg.webp
END:VEVENT
END:VCALENDAR