BEGIN:VCALENDAR
VERSION:2.0
PRODID:-//Hennesea - ECPv6.15.17.1//NONSGML v1.0//EN
CALSCALE:GREGORIAN
METHOD:PUBLISH
X-ORIGINAL-URL:https://www.hennesea.com
X-WR-CALDESC:Events for Hennesea
REFRESH-INTERVAL;VALUE=DURATION:PT1H
X-Robots-Tag:noindex
X-PUBLISHED-TTL:PT1H
BEGIN:VTIMEZONE
TZID:Europe/London
BEGIN:DAYLIGHT
TZOFFSETFROM:+0000
TZOFFSETTO:+0100
TZNAME:BST
DTSTART:20230326T010000
END:DAYLIGHT
BEGIN:STANDARD
TZOFFSETFROM:+0100
TZOFFSETTO:+0000
TZNAME:GMT
DTSTART:20231029T010000
END:STANDARD
BEGIN:DAYLIGHT
TZOFFSETFROM:+0000
TZOFFSETTO:+0100
TZNAME:BST
DTSTART:20240331T010000
END:DAYLIGHT
BEGIN:STANDARD
TZOFFSETFROM:+0100
TZOFFSETTO:+0000
TZNAME:GMT
DTSTART:20241027T010000
END:STANDARD
BEGIN:DAYLIGHT
TZOFFSETFROM:+0000
TZOFFSETTO:+0100
TZNAME:BST
DTSTART:20250330T010000
END:DAYLIGHT
BEGIN:STANDARD
TZOFFSETFROM:+0100
TZOFFSETTO:+0000
TZNAME:GMT
DTSTART:20251026T010000
END:STANDARD
END:VTIMEZONE
BEGIN:VEVENT
DTSTART;TZID=Europe/London:20240602T150000
DTEND;TZID=Europe/London:20240602T190000
DTSTAMP:20260422T222527
CREATED:20240525T121817Z
LAST-MODIFIED:20240525T121927Z
UID:1298-1717340400-1717354800@www.hennesea.com
SUMMARY:Nag's Head
DESCRIPTION:Sunday Sessions at the Nag’s Head\n3pm – Carol Lee Sampson \n4pm – Don MacLeod \n5pm – Enzo \n6pm – Hennesea \nA summer afternoon of music
URL:https://www.hennesea.com/event/nags-head/
LOCATION:The Nag’s Head\, 2 Bank Street\, Malvern\, Worcestershire\, WR14 2JG\, UK
ATTACH;FMTTYPE=image/jpeg:https://www.hennesea.com/wp-content/uploads/2024/04/Creature-Blue-Eyes-Expanded-scaled.webp
END:VEVENT
BEGIN:VEVENT
DTSTART;TZID=Europe/London:20240607T210000
DTEND;TZID=Europe/London:20240607T230000
DTSTAMP:20260422T222527
CREATED:20240419T200317Z
LAST-MODIFIED:20240527T194450Z
UID:1291-1717794000-1717801200@www.hennesea.com
SUMMARY:The Black Bear
DESCRIPTION:Hennesea return to the Black Bear where they will be playing all original songs\, many from their upcoming album\, Creature\, which is currently in production\, due for release later this year.
URL:https://www.hennesea.com/event/the-black-bear/
LOCATION:The Black Bear\, High Street\, Tewkesbury\, Gloucestershire\, GL20 5BJ\, United Kingdom
ATTACH;FMTTYPE=image/jpeg:https://www.hennesea.com/wp-content/uploads/2024/04/Creature-04-jpeg.webp
END:VEVENT
BEGIN:VEVENT
DTSTART;TZID=Europe/London:20240615T200000
DTEND;TZID=Europe/London:20240615T230000
DTSTAMP:20260422T222527
CREATED:20240208T185202Z
LAST-MODIFIED:20240525T122309Z
UID:1248-1718481600-1718492400@www.hennesea.com
SUMMARY:Foyer Folk
DESCRIPTION:Folk in the Foyer at Number 8 Arts Centre. \nJoin Hennesea at Number 8 Arts Centre where they will be playing all original songs\, many from their upcoming album\, Creature\, which is currently in production\, due for release later this year.
URL:https://www.hennesea.com/event/foyer-folk/
LOCATION:Number 8 Arts Centre\, 8 High Street\, Pershore\, Worcestershire\, WR10 1BG\, United Kingdom
ATTACH;FMTTYPE=image/jpeg:https://www.hennesea.com/wp-content/uploads/2023/05/Anna-at-Red-Lion-Evesham.jpeg
END:VEVENT
END:VCALENDAR