BEGIN:VCALENDAR
VERSION:2.0
PRODID:-//Hennesea - ECPv6.15.17.1//NONSGML v1.0//EN
CALSCALE:GREGORIAN
METHOD:PUBLISH
X-WR-CALNAME:Hennesea
X-ORIGINAL-URL:https://www.hennesea.com
X-WR-CALDESC:Events for Hennesea
REFRESH-INTERVAL;VALUE=DURATION:PT1H
X-Robots-Tag:noindex
X-PUBLISHED-TTL:PT1H
BEGIN:VTIMEZONE
TZID:UTC
BEGIN:STANDARD
TZOFFSETFROM:+0000
TZOFFSETTO:+0000
TZNAME:UTC
DTSTART:20230101T000000
END:STANDARD
END:VTIMEZONE
BEGIN:VEVENT
DTSTART;TZID=UTC:20240802T190000
DTEND;TZID=UTC:20240802T200000
DTSTAMP:20260422T190635
CREATED:20240910T151838Z
LAST-MODIFIED:20240910T153017Z
UID:1318-1722625200-1722628800@www.hennesea.com
SUMMARY:Malvern Rocks - Three Horseshoes
DESCRIPTION:
URL:https://www.hennesea.com/event/malvern-rocks-three-horseshoes/
LOCATION:The Three Horeshoes\, 105 Poolbrook Rd\, Malvern\, Worcestershire\, WR14 3JW\, United Kingdom
ATTACH;FMTTYPE=image/jpeg:https://www.hennesea.com/wp-content/uploads/2024/04/Creature-04-jpeg.webp
END:VEVENT
BEGIN:VEVENT
DTSTART;TZID=UTC:20240804T160000
DTEND;TZID=UTC:20240804T170000
DTSTAMP:20260422T190635
CREATED:20240910T151935Z
LAST-MODIFIED:20240910T151935Z
UID:1320-1722787200-1722790800@www.hennesea.com
SUMMARY:Malvern Rocks - The Morgan
DESCRIPTION:
URL:https://www.hennesea.com/event/malvern-rocks-the-morgan/
LOCATION:The Morgan\, 52 Clarence Road\, Malvern\, Worcestershire\, WR14 3EQ\, UK
ATTACH;FMTTYPE=image/jpeg:https://www.hennesea.com/wp-content/uploads/2023/05/Hennesea-at-Red-Lion-Evesham.jpg
END:VEVENT
BEGIN:VEVENT
DTSTART;TZID=UTC:20240810T160000
DTEND;TZID=UTC:20240810T170000
DTSTAMP:20260422T190635
CREATED:20240910T152217Z
LAST-MODIFIED:20240910T152217Z
UID:1323-1723305600-1723309200@www.hennesea.com
SUMMARY:Belle Vue Beats
DESCRIPTION:
URL:https://www.hennesea.com/event/belle-vue-beats/
LOCATION:Belle Vue Island\, Belle Vue Terrace\, Malvern\, United Kingdom
ATTACH;FMTTYPE=image/png:https://www.hennesea.com/wp-content/uploads/2023/09/Hennesea-Squirrel.png
END:VEVENT
END:VCALENDAR